BEGIN:VCALENDAR
VERSION:2.0
PRODID:-//3nity.com//3nity CMS//EN
BEGIN:VEVENT
SUMMARY:Men's Bible Study
UID:2026-07-18-1210372@www.drapervalleybaptist.org
SEQUENCE:0
STATUS:CONFIRMED
DTSTART:20260604T180000
DTEND:20260604T190000
DTSTAMP:20161222T120000
DESCRIPTION:
URL:http://www.drapervalleybaptist.org
END:VEVENT
END:VCALENDAR
